BEGIN:VCALENDAR
VERSION:2.0
PRODID:GlueUp
CALSCALE:GREGORIAN
BEGIN:VTIMEZONE
TZID:UTC
BEGIN:STANDARD
DTSTART:19700101T000000
TZOFFSETFROM:+0000
TZOFFSETTO:+0000
TZNAME:UTC
END:STANDARD
END:VTIMEZONE
BEGIN:VEVENT
TZ:+00
ORGANIZER;CN=Alumni CanCham:MAILTO:alumni@cancham.asia
UID:11944-1777146607@https://cancham.glueup.cn
DTSTAMP:20260425T195007Z
DTSTART:20171017T003000Z
DTEND:20171017T021500Z
SUMMARY:Labour Law: Hiring and Firing in China
DESCRIPTION:Labour Law: Hiring and Firing in China by CanCham Shanghai\n\nOct 17, 2017 (8:30 AM - 10:15 AM)(GMT+8)\n\nFor more information, click here: https://cancham.glueup.cn/my/events/11944
LOCATION:Paper, 1F, Building No. 8, Lane 622, Huaihai Middle Road - Paper - 1F - Building No. 8 - Lane 622 - Huaihai Middle Road 淮海中路622弄8号 Shanghai - China
BEGIN:VALARM
TRIGGER:-PT48H
REPEAT:4
DURATION:PT30M
ACTION:DISPLAY
END:VALARM
END:VEVENT
END:VCALENDAR