BEGIN:VCALENDAR
VERSION:2.0
PRODID:GlueUp
CALSCALE:GREGORIAN
BEGIN:VTIMEZONE
TZID:UTC
BEGIN:STANDARD
DTSTART:19700101T000000
TZOFFSETFROM:+0000
TZOFFSETTO:+0000
TZNAME:UTC
END:STANDARD
END:VTIMEZONE
BEGIN:VEVENT
TZ:+00
ORGANIZER;CN=Cleo Cao:MAILTO:project@cancham.asia
UID:14542-1777050344@https://cancham.glueup.cn
DTSTAMP:20260424T170544Z
DTSTART:20180313T003000Z
DTEND:20180313T020000Z
SUMMARY:Health and Wellness Panel
DESCRIPTION:Health and Wellness Panel by CanCham Shanghai\n\nMar 13, 2018 (8:30 AM - 10:00 AM)(GMT+8)\n\nFor more information, click here: https://cancham.glueup.cn/my/events/14542
LOCATION:WeWork Weihai Lu - 696 Weihai Road - Jing'An District Shanghai - China
BEGIN:VALARM
TRIGGER:-PT48H
REPEAT:4
DURATION:PT30M
ACTION:DISPLAY
END:VALARM
END:VEVENT
END:VCALENDAR