BEGIN:VCALENDAR
VERSION:2.0
PRODID:GlueUp
CALSCALE:GREGORIAN
BEGIN:VTIMEZONE
TZID:UTC
BEGIN:STANDARD
DTSTART:19700101T000000
TZOFFSETFROM:+0000
TZOFFSETTO:+0000
TZNAME:UTC
END:STANDARD
END:VTIMEZONE
BEGIN:VEVENT
TZ:+00
ORGANIZER;CN=Info Cancham:MAILTO:info@cancham.asia
UID:46869-1776845211@https://cancham.glueup.cn
DTSTAMP:20260422T080651Z
DTSTART:20250417T054500Z
DTEND:20250417T083000Z
SUMMARY:2025 China Tax Reform Seminar
DESCRIPTION:2025 China Tax Reform Seminar by CanCham Shanghai\n\nApr 17, 2025 (1:45 PM - 4:30 PM)(GMT+8)\n\nFor more information, click here: https://cancham.glueup.cn/my/events/46869
LOCATION:Grant Thornton - 45/F Raffles City,268 Xizang Zhong Road - Huang Pu District Shanghai - Huangpu - China
BEGIN:VALARM
TRIGGER:-PT48H
REPEAT:4
DURATION:PT30M
ACTION:DISPLAY
END:VALARM
END:VEVENT
END:VCALENDAR