BEGIN:VCALENDAR
VERSION:2.0
PRODID:GlueUp
CALSCALE:GREGORIAN
BEGIN:VTIMEZONE
TZID:UTC
BEGIN:STANDARD
DTSTART:19700101T000000
TZOFFSETFROM:+0000
TZOFFSETTO:+0000
TZNAME:UTC
END:STANDARD
END:VTIMEZONE
BEGIN:VEVENT
TZ:+00
ORGANIZER;CN=Events CanCham:MAILTO:events@cancham.asia
UID:4877-1776767279@https://cancham.glueup.cn
DTSTAMP:20260421T102759Z
DTSTART:20160108T063000Z
DTEND:20160108T083000Z
SUMMARY:Maximising Your ROI on Product Through the Enhanced 150% Super Deduction and High and New Technology Enterprise Programs
DESCRIPTION:Maximising Your ROI on Product Through the Enhanced 150% Super Deduction and High and New Technology Enterprise Programs by CanCham Shanghai\n\nJan 8, 2016 (2:30 PM - 4:30 PM)(GMT+8)\n\nFor more information, click here: https://cancham.glueup.cn/my/events/4877
LOCATION:CanCham Conference Room - 22F - Tower 3 - Jing An Kerry Centre - 1228 Yan’an Road Middle Shanghai - China
BEGIN:VALARM
TRIGGER:-PT48H
REPEAT:4
DURATION:PT30M
ACTION:DISPLAY
END:VALARM
END:VEVENT
END:VCALENDAR