BEGIN:VCALENDAR
VERSION:2.0
PRODID:GlueUp
CALSCALE:GREGORIAN
BEGIN:VTIMEZONE
TZID:UTC
BEGIN:STANDARD
DTSTART:19700101T000000
TZOFFSETFROM:+0000
TZOFFSETTO:+0000
TZNAME:UTC
END:STANDARD
END:VTIMEZONE
BEGIN:VEVENT
TZ:+00
ORGANIZER;CN=Chamber Cancham:MAILTO:chamber@cancham.asia
UID:5813-1776922187@https://cancham.glueup.cn
DTSTAMP:20260423T052947Z
DTSTART:20160624T103000Z
DTEND:20160624T133000Z
SUMMARY:La Fête nationale du Québec
DESCRIPTION:La Fête nationale du Québec by CanCham Shanghai\n\nJun 24, 2016 (6:30 PM - 9:30 PM)(GMT+8)\n\nFor more information, click here: https://cancham.glueup.cn/my/events/5813
LOCATION:The Place, Shanghai - THE PLACE - Terrace Lounge,No.457 - Jumen Road -  - Bridge 8 Phase IV - Huangpu District Shanghai - China
BEGIN:VALARM
TRIGGER:-PT48H
REPEAT:4
DURATION:PT30M
ACTION:DISPLAY
END:VALARM
END:VEVENT
END:VCALENDAR