BEGIN:VCALENDAR
VERSION:2.0
PRODID:GlueUp
CALSCALE:GREGORIAN
BEGIN:VTIMEZONE
TZID:UTC
BEGIN:STANDARD
DTSTART:19700101T000000
TZOFFSETFROM:+0000
TZOFFSETTO:+0000
TZNAME:UTC
END:STANDARD
END:VTIMEZONE
BEGIN:VEVENT
TZ:+00
ORGANIZER;CN=Info Cancham:MAILTO:info@cancham.asia
UID:47069-1776844824@https://cancham.glueup.cn
DTSTAMP:20260422T080024Z
DTSTART:20250628T060000Z
DTEND:20250628T130000Z
SUMMARY:Canada Day 2025
DESCRIPTION:Canada Day 2025 by CanCham Shanghai\n\nJun 28, 2025 (2:00 PM - 9:00 PM)(GMT+8)\n\nFor more information, click here: https://cancham.glueup.cn/my/events/47069
LOCATION:Touch Mall 徐汇正大乐城 - 中山南二路699号 - No.699 - Zhongshan South 2nd Road Shanghai - China
BEGIN:VALARM
TRIGGER:-PT48H
REPEAT:4
DURATION:PT30M
ACTION:DISPLAY
END:VALARM
END:VEVENT
END:VCALENDAR