BEGIN:VCALENDAR
VERSION:2.0
PRODID:GlueUp
CALSCALE:GREGORIAN
BEGIN:VTIMEZONE
TZID:UTC
BEGIN:STANDARD
DTSTART:19700101T000000
TZOFFSETFROM:+0000
TZOFFSETTO:+0000
TZNAME:UTC
END:STANDARD
END:VTIMEZONE
BEGIN:VEVENT
TZ:+00
ORGANIZER;CN=Info Cancham:MAILTO:info@cancham.asia
UID:49836-1776675998@https://cancham.glueup.cn
DTSTAMP:20260420T090638Z
DTSTART:20260331T093000Z
DTEND:20260331T123000Z
SUMMARY:CanCham 2026 Annual General Meeting
DESCRIPTION:CanCham 2026 Annual General Meeting by CanCham Shanghai\n\nMar 31, 2026 (5:30 PM - 8:30 PM)(GMT+8)\n\nFor more information, click here: https://cancham.glueup.cn/my/events/49836
LOCATION:Hilton Shanghai City Centre - 488 West Yan'an Road - Changning District Shanghai - China
BEGIN:VALARM
TRIGGER:-PT48H
REPEAT:4
DURATION:PT30M
ACTION:DISPLAY
END:VALARM
END:VEVENT
END:VCALENDAR