BEGIN:VCALENDAR
VERSION:2.0
PRODID:GlueUp
CALSCALE:GREGORIAN
BEGIN:VTIMEZONE
TZID:UTC
BEGIN:STANDARD
DTSTART:19700101T000000
TZOFFSETFROM:+0000
TZOFFSETTO:+0000
TZNAME:UTC
END:STANDARD
END:VTIMEZONE
BEGIN:VEVENT
TZ:+00
ORGANIZER;CN=Info Cancham:MAILTO:info@cancham.asia
UID:46898-1776844224@https://cancham.glueup.cn
DTSTAMP:20260422T075024Z
DTSTART:20250420T030000Z
DTEND:20250420T050000Z
SUMMARY:CanCham Easter Special: Egg Hunt & Brunch
DESCRIPTION:CanCham Easter Special: Egg Hunt & Brunch by CanCham Shanghai\n\nApr 20, 2025 (11:00 AM - 1:00 PM)(GMT+8)\n\nFor more information, click here: https://cancham.glueup.cn/my/events/46898
LOCATION:Parlay - 103 - No358 Kangding Road - Building 18 - JingAn Shanghai - China
BEGIN:VALARM
TRIGGER:-PT48H
REPEAT:4
DURATION:PT30M
ACTION:DISPLAY
END:VALARM
END:VEVENT
END:VCALENDAR