BEGIN:VCALENDAR
VERSION:2.0
PRODID:GlueUp
CALSCALE:GREGORIAN
BEGIN:VTIMEZONE
TZID:UTC
BEGIN:STANDARD
DTSTART:19700101T000000
TZOFFSETFROM:+0000
TZOFFSETTO:+0000
TZNAME:UTC
END:STANDARD
END:VTIMEZONE
BEGIN:VEVENT
TZ:+00
ORGANIZER;CN=Info Cancham:MAILTO:info@cancham.asia
UID:46438-1776844334@https://cancham.glueup.cn
DTSTAMP:20260422T075214Z
DTSTART:20250327T193000Z
DTEND:20250327T220000Z
SUMMARY:Generative AI STARTERS Training Course
DESCRIPTION:Generative AI STARTERS Training Course by CanCham Shanghai\n\nMar 27, 2025 (3:30 PM - 6:00 PM)(GMT-4)\n\nFor more information, click here: https://cancham.glueup.cn/my/events/46438
LOCATION:Kaikai Plaza - 22F - 888 Wanhangdu Rd. Shanghai - JingAn District - China
BEGIN:VALARM
TRIGGER:-PT48H
REPEAT:4
DURATION:PT30M
ACTION:DISPLAY
END:VALARM
END:VEVENT
END:VCALENDAR