BEGIN:VCALENDAR
VERSION:2.0
PRODID:GlueUp
CALSCALE:GREGORIAN
BEGIN:VTIMEZONE
TZID:UTC
BEGIN:STANDARD
DTSTART:19700101T000000
TZOFFSETFROM:+0000
TZOFFSETTO:+0000
TZNAME:UTC
END:STANDARD
END:VTIMEZONE
BEGIN:VEVENT
TZ:+00
ORGANIZER;CN=CanCham Office:MAILTO:info@cancham.asia
UID:47384-1776844111@https://cancham.glueup.cn
DTSTAMP:20260422T074831Z
DTSTART:20250613T100000Z
DTEND:20250613T130000Z
SUMMARY:Interchamber Mixer: CANZUK king's Birthday Drinks
DESCRIPTION:Interchamber Mixer: CANZUK king's Birthday Drinks by CanCham Shanghai\n\nJun 13, 2025 (6:00 PM - 9:00 PM)(GMT+8)\n\nFor more information, click here: https://cancham.glueup.cn/my/events/47384
LOCATION:Mortons of Chicago Steakhouse - 15&16 - Level 4 - ifc Mall - No. 8 Century Avenue - Pudong New District Shanghai - China
BEGIN:VALARM
TRIGGER:-PT48H
REPEAT:4
DURATION:PT30M
ACTION:DISPLAY
END:VALARM
END:VEVENT
END:VCALENDAR