BEGIN:VCALENDAR
VERSION:2.0
PRODID:GlueUp
CALSCALE:GREGORIAN
BEGIN:VTIMEZONE
TZID:UTC
BEGIN:STANDARD
DTSTART:19700101T000000
TZOFFSETFROM:+0000
TZOFFSETTO:+0000
TZNAME:UTC
END:STANDARD
END:VTIMEZONE
BEGIN:VEVENT
TZ:+00
ORGANIZER;CN=CanCham Office:MAILTO:info@cancham.asia
UID:29935-1777157032@https://cancham.glueup.cn
DTSTAMP:20260425T224352Z
DTSTART:20210113T110000Z
DTEND:20210113T133000Z
SUMMARY:Planet Canada: How Our Expats Are Shaping the Future
DESCRIPTION:Planet Canada: How Our Expats Are Shaping the Future by CanCham Shanghai\n\nJan 13, 2021 (7:00 PM - 9:30 PM)(GMT+8)\n\nFor more information, click here: https://cancham.glueup.cn/my/events/29935
LOCATION:Air Space (On Air 3) - 3rd floor - 176 East Xietu Rd 斜土东路176号三楼On Air Space（百度地图显示为斜土东路174号） Shanghai - China
BEGIN:VALARM
TRIGGER:-PT48H
REPEAT:4
DURATION:PT30M
ACTION:DISPLAY
END:VALARM
END:VEVENT
END:VCALENDAR