BEGIN:VCALENDAR
VERSION:2.0
PRODID:GlueUp
CALSCALE:GREGORIAN
BEGIN:VTIMEZONE
TZID:UTC
BEGIN:STANDARD
DTSTART:19700101T000000
TZOFFSETFROM:+0000
TZOFFSETTO:+0000
TZNAME:UTC
END:STANDARD
END:VTIMEZONE
BEGIN:VEVENT
TZ:+00
ORGANIZER;CN=Info Cancham:MAILTO:info@cancham.asia
UID:50012-1776669696@https://cancham.glueup.cn
DTSTAMP:20260420T072136Z
DTSTART:20260331T010500Z
DTEND:20260929T010500Z
SUMMARY:White Paper Access Portal
DESCRIPTION:White Paper Access Portal by CanCham Shanghai\n\nMar 31, 2026 to Sep 29, 2026(GMT+8)\n\nFor more information, click here: https://cancham.glueup.cn/my/events/50012
LOCATION:
BEGIN:VALARM
TRIGGER:-PT48H
REPEAT:4
DURATION:PT30M
ACTION:DISPLAY
END:VALARM
END:VEVENT
END:VCALENDAR